Package: gsean Version: 1.24.0 Command: /home/biocbuild/R/R-beta-2024-04-15_r86425/bin/R CMD build --keep-empty-dirs --no-resave-data gsean StartedAt: 2024-05-09 00:50:08 -0000 (Thu, 09 May 2024) EndedAt: 2024-05-09 00:51:24 -0000 (Thu, 09 May 2024) EllapsedTime: 76.1 seconds RetCode: 0 Status: OK PackageFile: gsean_1.24.0.tar.gz PackageFileSize: 2.118 MiB