Package: gscreend Version: 1.18.0 Command: rm -rf gscreend.buildbin-libdir && mkdir gscreend.buildbin-libdir && E:\biocbuild\bbs-3.19-bioc\R\bin\R.exe CMD INSTALL --build --library=gscreend.buildbin-libdir gscreend_1.18.0.tar.gz StartedAt: 2024-10-17 07:55:24 -0400 (Thu, 17 Oct 2024) EndedAt: 2024-10-17 07:56:16 -0400 (Thu, 17 Oct 2024) EllapsedTime: 51.3 seconds RetCode: 0 Status: OK PackageFile: gscreend_1.18.0.zip PackageFileSize: 3.137 MiB