Package: groHMM Version: 1.38.0 Command: chmod a+r groHMM -R && F:\biocbuild\bbs-3.19-bioc\R\bin\R.exe CMD build --keep-empty-dirs --no-resave-data groHMM StartedAt: 2024-06-26 19:21:05 -0400 (Wed, 26 Jun 2024) EndedAt: 2024-06-26 19:26:14 -0400 (Wed, 26 Jun 2024) EllapsedTime: 308.7 seconds RetCode: 0 Status: OK PackageFile: groHMM_1.38.0.tar.gz PackageFileSize: 4.14 MiB