Package: groHMM Version: 1.38.0 Command: /Library/Frameworks/R.framework/Resources/bin/R CMD build --keep-empty-dirs --no-resave-data groHMM StartedAt: 2024-06-09 22:35:27 -0400 (Sun, 09 Jun 2024) EndedAt: 2024-06-09 22:38:57 -0400 (Sun, 09 Jun 2024) EllapsedTime: 209.7 seconds RetCode: 0 Status: OK PackageFile: groHMM_1.38.0.tar.gz PackageFileSize: 4.153 MiB