Package: graphite Version: 1.50.0 Command: E:\biocbuild\bbs-3.19-bioc\R\bin\R.exe CMD INSTALL graphite StartedAt: 2024-10-16 16:16:01 -0400 (Wed, 16 Oct 2024) EndedAt: 2024-10-16 16:16:33 -0400 (Wed, 16 Oct 2024) EllapsedTime: 32.1 seconds RetCode: 0 Status: OK