Package: graphite Version: 1.50.0 Command: E:\biocbuild\bbs-3.19-bioc\R\bin\R.exe CMD check --no-multiarch --install=check:graphite.install-out.txt --library=E:\biocbuild\bbs-3.19-bioc\R\library --no-vignettes --timings graphite_1.50.0.tar.gz StartedAt: 2024-10-17 02:06:44 -0400 (Thu, 17 Oct 2024) EndedAt: 2024-10-17 02:11:30 -0400 (Thu, 17 Oct 2024) EllapsedTime: 286.2 seconds RetCode: 0 Status: OK CheckDir: graphite.Rcheck Warnings: 0