Package: graphite Version: 1.50.0 Command: rm -rf graphite.buildbin-libdir && mkdir graphite.buildbin-libdir && E:\biocbuild\bbs-3.19-bioc\R\bin\R.exe CMD INSTALL --build --library=graphite.buildbin-libdir graphite_1.50.0.tar.gz StartedAt: 2024-10-17 07:55:08 -0400 (Thu, 17 Oct 2024) EndedAt: 2024-10-17 07:55:46 -0400 (Thu, 17 Oct 2024) EllapsedTime: 37.9 seconds RetCode: 0 Status: OK PackageFile: graphite_1.50.0.zip PackageFileSize: 901 KiB