Package: graphite Version: 1.50.0 Command: F:\biocbuild\bbs-3.19-bioc\R\bin\R.exe CMD check --no-multiarch --install=check:graphite.install-out.txt --library=F:\biocbuild\bbs-3.19-bioc\R\library --no-vignettes --timings graphite_1.50.0.tar.gz StartedAt: 2024-06-27 02:21:20 -0400 (Thu, 27 Jun 2024) EndedAt: 2024-06-27 02:26:58 -0400 (Thu, 27 Jun 2024) EllapsedTime: 338.4 seconds RetCode: 0 Status: OK CheckDir: graphite.Rcheck Warnings: 0