Package: graphite Version: 1.50.0 Command: chmod a+r graphite -R && F:\biocbuild\bbs-3.19-bioc\R\bin\R.exe CMD build --keep-empty-dirs --no-resave-data graphite StartedAt: 2024-06-26 19:19:58 -0400 (Wed, 26 Jun 2024) EndedAt: 2024-06-26 19:21:25 -0400 (Wed, 26 Jun 2024) EllapsedTime: 87.3 seconds RetCode: 0 Status: OK PackageFile: graphite_1.50.0.tar.gz PackageFileSize: 765.2 KiB