Package: graphite Version: 1.50.0 Command: /home/biocbuild/bbs-3.19-bioc/R/bin/R CMD check --install=check:graphite.install-out.txt --library=/home/biocbuild/bbs-3.19-bioc/R/site-library --timings graphite_1.50.0.tar.gz StartedAt: 2024-10-17 01:08:22 -0400 (Thu, 17 Oct 2024) EndedAt: 2024-10-17 01:12:59 -0400 (Thu, 17 Oct 2024) EllapsedTime: 276.6 seconds RetCode: 0 Status: OK CheckDir: graphite.Rcheck Warnings: 0