Package: graphite Version: 1.50.0 Command: rm -rf graphite.buildbin-libdir && mkdir graphite.buildbin-libdir && /Users/biocbuild/BBS/utils/build-universal.sh graphite_1.50.0.tar.gz /Library/Frameworks/R.framework/Resources/bin/R graphite.buildbin-libdir StartedAt: 2024-06-10 00:21:17 -0400 (Mon, 10 Jun 2024) EndedAt: 2024-06-10 00:21:39 -0400 (Mon, 10 Jun 2024) EllapsedTime: 21.7 seconds RetCode: 0 Status: OK PackageFile: graphite_1.50.0.tgz PackageFileSize: 902.7 KiB