Package: graper Version: 1.20.0 Command: E:\biocbuild\bbs-3.19-bioc\R\bin\R.exe CMD INSTALL graper StartedAt: 2024-10-16 16:09:43 -0400 (Wed, 16 Oct 2024) EndedAt: 2024-10-16 16:10:36 -0400 (Wed, 16 Oct 2024) EllapsedTime: 53.2 seconds RetCode: 0 Status: OK