Package: graper Version: 1.20.0 Command: /Library/Frameworks/R.framework/Resources/bin/R CMD INSTALL graper StartedAt: 2024-10-16 16:08:29 -0400 (Wed, 16 Oct 2024) EndedAt: 2024-10-16 16:08:59 -0400 (Wed, 16 Oct 2024) EllapsedTime: 30.4 seconds RetCode: 0 Status: OK