Package: granulator Version: 1.12.0 Command: chmod a+r granulator -R && F:\biocbuild\bbs-3.19-bioc\R\bin\R.exe CMD build --keep-empty-dirs --no-resave-data granulator StartedAt: 2024-06-26 19:18:54 -0400 (Wed, 26 Jun 2024) EndedAt: 2024-06-26 19:22:22 -0400 (Wed, 26 Jun 2024) EllapsedTime: 207.6 seconds RetCode: 0 Status: OK PackageFile: granulator_1.12.0.tar.gz PackageFileSize: 873.1 KiB