Package: granulator Version: 1.12.0 Command: /Library/Frameworks/R.framework/Resources/bin/R CMD build --keep-empty-dirs --no-resave-data granulator StartedAt: 2024-10-16 19:44:44 -0400 (Wed, 16 Oct 2024) EndedAt: 2024-10-16 19:49:57 -0400 (Wed, 16 Oct 2024) EllapsedTime: 313.1 seconds RetCode: 0 Status: OK PackageFile: granulator_1.12.0.tar.gz PackageFileSize: 1.328 MiB