Package: granulator Version: 1.12.0 Command: /Library/Frameworks/R.framework/Resources/bin/R CMD check --install=check:granulator.install-out.txt --library=/Library/Frameworks/R.framework/Resources/library --no-vignettes --timings granulator_1.12.0.tar.gz StartedAt: 2024-10-17 23:49:16 -0400 (Thu, 17 Oct 2024) EndedAt: 2024-10-17 23:58:02 -0400 (Thu, 17 Oct 2024) EllapsedTime: 525.9 seconds RetCode: 0 Status: OK CheckDir: granulator.Rcheck Warnings: 0