Package: granulator Version: 1.12.0 Command: rm -rf granulator.buildbin-libdir && mkdir granulator.buildbin-libdir && /Users/biocbuild/BBS/utils/build-universal.sh granulator_1.12.0.tar.gz /Library/Frameworks/R.framework/Resources/bin/R granulator.buildbin-libdir StartedAt: 2024-10-18 18:48:49 -0400 (Fri, 18 Oct 2024) EndedAt: 2024-10-18 18:49:07 -0400 (Fri, 18 Oct 2024) EllapsedTime: 17.9 seconds RetCode: 0 Status: OK PackageFile: granulator_1.12.0.tgz PackageFileSize: 1.372 MiB