Package: gpuMagic Version: 1.20.0 Command: rm -rf gpuMagic.buildbin-libdir && mkdir gpuMagic.buildbin-libdir && E:\biocbuild\bbs-3.19-bioc\R\bin\R.exe CMD INSTALL --build --library=gpuMagic.buildbin-libdir gpuMagic_1.20.0.tar.gz StartedAt: 2024-10-17 07:54:52 -0400 (Thu, 17 Oct 2024) EndedAt: 2024-10-17 07:56:20 -0400 (Thu, 17 Oct 2024) EllapsedTime: 87.6 seconds RetCode: 0 Status: OK PackageFile: gpuMagic_1.20.0.zip PackageFileSize: 1.565 MiB