Package: gpuMagic Version: 1.20.0 Command: /home/biocbuild/bbs-3.19-bioc/R/bin/R CMD build --keep-empty-dirs --no-resave-data gpuMagic StartedAt: 2024-10-16 18:49:10 -0400 (Wed, 16 Oct 2024) EndedAt: 2024-10-16 18:49:44 -0400 (Wed, 16 Oct 2024) EllapsedTime: 34.0 seconds RetCode: 0 Status: OK PackageFile: gpuMagic_1.20.0.tar.gz PackageFileSize: 736.9 KiB