Package: gpuMagic Version: 1.20.0 Command: /Library/Frameworks/R.framework/Resources/bin/R CMD check --install=check:gpuMagic.install-out.txt --library=/Library/Frameworks/R.framework/Resources/library --no-vignettes --timings gpuMagic_1.20.0.tar.gz StartedAt: 2024-10-17 06:17:17 -0400 (Thu, 17 Oct 2024) EndedAt: 2024-10-17 06:21:51 -0400 (Thu, 17 Oct 2024) EllapsedTime: 273.7 seconds RetCode: 0 Status: WARNINGS CheckDir: gpuMagic.Rcheck Warnings: 1