Package: gpuMagic Version: 1.20.0 Command: /home/biocbuild/R/R-beta-2024-04-15_r86425/bin/R CMD build --keep-empty-dirs --no-resave-data gpuMagic StartedAt: 2024-05-09 00:45:03 -0000 (Thu, 09 May 2024) EndedAt: 2024-05-09 00:45:56 -0000 (Thu, 09 May 2024) EllapsedTime: 53.1 seconds RetCode: 0 Status: OK PackageFile: gpuMagic_1.20.0.tar.gz PackageFileSize: 868.6 KiB