Package: gpls Version: 1.76.0 Command: chmod a+r gpls -R && F:\biocbuild\bbs-3.19-bioc\R\bin\R.exe CMD build --keep-empty-dirs --no-resave-data gpls StartedAt: 2024-06-26 19:18:34 -0400 (Wed, 26 Jun 2024) EndedAt: 2024-06-26 19:18:53 -0400 (Wed, 26 Jun 2024) EllapsedTime: 19.1 seconds RetCode: 0 Status: OK PackageFile: gpls_1.76.0.tar.gz PackageFileSize: 103.2 KiB