Package: gpls Version: 1.76.0 Command: /home/biocbuild/bbs-3.19-bioc/R/bin/R CMD INSTALL gpls StartedAt: 2024-10-16 15:49:15 -0400 (Wed, 16 Oct 2024) EndedAt: 2024-10-16 15:49:18 -0400 (Wed, 16 Oct 2024) EllapsedTime: 3.2 seconds RetCode: 0 Status: OK