Package: gpls Version: 1.76.0 Command: /Library/Frameworks/R.framework/Resources/bin/R CMD build --keep-empty-dirs --no-resave-data gpls StartedAt: 2024-10-16 19:43:58 -0400 (Wed, 16 Oct 2024) EndedAt: 2024-10-16 19:44:26 -0400 (Wed, 16 Oct 2024) EllapsedTime: 27.7 seconds RetCode: 0 Status: OK PackageFile: gpls_1.76.0.tar.gz PackageFileSize: 233.2 KiB