Package: gpls Version: 1.76.0 Command: /Library/Frameworks/R.framework/Resources/bin/R CMD check --install=check:gpls.install-out.txt --library=/Library/Frameworks/R.framework/Resources/library --no-vignettes --timings gpls_1.76.0.tar.gz StartedAt: 2024-06-09 20:44:26 -0400 (Sun, 09 Jun 2024) EndedAt: 2024-06-09 20:44:56 -0400 (Sun, 09 Jun 2024) EllapsedTime: 29.4 seconds RetCode: 0 Status: WARNINGS CheckDir: gpls.Rcheck Warnings: 1