Package: gpls Version: 1.76.0 Command: /home/biocbuild/R/R-beta-2024-04-15_r86425/bin/R CMD check --install=check:gpls.install-out.txt --library=/home/biocbuild/R/R-beta-2024-04-15_r86425/site-library --no-vignettes --timings gpls_1.76.0.tar.gz StartedAt: 2024-05-09 08:05:22 -0000 (Thu, 09 May 2024) EndedAt: 2024-05-09 08:05:43 -0000 (Thu, 09 May 2024) EllapsedTime: 21.0 seconds RetCode: 0 Status: WARNINGS CheckDir: gpls.Rcheck Warnings: 1