Package: gpls Version: 1.76.0 Command: /home/biocbuild/R/R-beta-2024-04-15_r86425/bin/R CMD build --keep-empty-dirs --no-resave-data gpls StartedAt: 2024-05-09 00:44:54 -0000 (Thu, 09 May 2024) EndedAt: 2024-05-09 00:45:03 -0000 (Thu, 09 May 2024) EllapsedTime: 9.0 seconds RetCode: 0 Status: OK PackageFile: gpls_1.76.0.tar.gz PackageFileSize: 225.9 KiB