Package: goseq Version: 1.56.0 Command: rm -rf goseq.buildbin-libdir && mkdir goseq.buildbin-libdir && E:\biocbuild\bbs-3.19-bioc\R\bin\R.exe CMD INSTALL --build --library=goseq.buildbin-libdir goseq_1.56.0.tar.gz StartedAt: 2024-10-17 07:54:35 -0400 (Thu, 17 Oct 2024) EndedAt: 2024-10-17 07:55:20 -0400 (Thu, 17 Oct 2024) EllapsedTime: 44.9 seconds RetCode: 0 Status: OK PackageFile: goseq_1.56.0.zip PackageFileSize: 1.728 MiB