Package: goseq Version: 1.56.0 Command: /home/biocbuild/bbs-3.19-bioc/R/bin/R CMD build --keep-empty-dirs --no-resave-data goseq StartedAt: 2024-10-16 18:48:02 -0400 (Wed, 16 Oct 2024) EndedAt: 2024-10-16 18:51:41 -0400 (Wed, 16 Oct 2024) EllapsedTime: 219.4 seconds RetCode: 0 Status: OK PackageFile: goseq_1.56.0.tar.gz PackageFileSize: 1.692 MiB