Package: goseq Version: 1.56.0 Command: /Library/Frameworks/R.framework/Resources/bin/R CMD build --keep-empty-dirs --no-resave-data goseq StartedAt: 2024-10-16 19:41:58 -0400 (Wed, 16 Oct 2024) EndedAt: 2024-10-16 19:50:35 -0400 (Wed, 16 Oct 2024) EllapsedTime: 517.4 seconds RetCode: 0 Status: OK PackageFile: goseq_1.56.0.tar.gz PackageFileSize: 1.826 MiB