Package: goseq Version: 1.56.0 Command: rm -rf goseq.buildbin-libdir && mkdir goseq.buildbin-libdir && /Users/biocbuild/BBS/utils/build-universal.sh goseq_1.56.0.tar.gz /Library/Frameworks/R.framework/Resources/bin/R goseq.buildbin-libdir StartedAt: 2024-10-17 16:17:37 -0400 (Thu, 17 Oct 2024) EndedAt: 2024-10-17 16:19:15 -0400 (Thu, 17 Oct 2024) EllapsedTime: 97.9 seconds RetCode: 0 Status: OK PackageFile: goseq_1.56.0.tgz PackageFileSize: 1.875 MiB