Package: goseq Version: 1.56.0 Command: rm -rf goseq.buildbin-libdir && mkdir goseq.buildbin-libdir && /Users/biocbuild/BBS/utils/build-universal.sh goseq_1.56.0.tar.gz /Library/Frameworks/R.framework/Resources/bin/R goseq.buildbin-libdir StartedAt: 2024-06-10 00:20:50 -0400 (Mon, 10 Jun 2024) EndedAt: 2024-06-10 00:21:42 -0400 (Mon, 10 Jun 2024) EllapsedTime: 52.0 seconds RetCode: 0 Status: OK PackageFile: goseq_1.56.0.tgz PackageFileSize: 1.876 MiB