Package: goseq Version: 1.56.0 Command: /Library/Frameworks/R.framework/Resources/bin/R CMD build --keep-empty-dirs --no-resave-data goseq StartedAt: 2024-10-17 01:40:03 -0400 (Thu, 17 Oct 2024) EndedAt: 2024-10-17 01:45:12 -0400 (Thu, 17 Oct 2024) EllapsedTime: 308.7 seconds RetCode: 0 Status: OK PackageFile: goseq_1.56.0.tar.gz PackageFileSize: 1.828 MiB