Package: goSorensen Version: 1.6.0 Command: chmod a+r goSorensen -R && E:\biocbuild\bbs-3.19-bioc\R\bin\R.exe CMD build --keep-empty-dirs --no-resave-data goSorensen StartedAt: 2024-10-16 19:31:30 -0400 (Wed, 16 Oct 2024) EndedAt: 2024-10-16 19:38:21 -0400 (Wed, 16 Oct 2024) EllapsedTime: 411.3 seconds RetCode: 0 Status: OK PackageFile: goSorensen_1.6.0.tar.gz PackageFileSize: 762.1 KiB