Package: goSorensen Version: 1.6.0 Command: rm -rf goSorensen.buildbin-libdir && mkdir goSorensen.buildbin-libdir && E:\biocbuild\bbs-3.19-bioc\R\bin\R.exe CMD INSTALL --build --library=goSorensen.buildbin-libdir goSorensen_1.6.0.tar.gz StartedAt: 2024-10-17 07:54:39 -0400 (Thu, 17 Oct 2024) EndedAt: 2024-10-17 07:55:33 -0400 (Thu, 17 Oct 2024) EllapsedTime: 54.0 seconds RetCode: 0 Status: OK PackageFile: goSorensen_1.6.0.zip PackageFileSize: 749.7 KiB