Package: goSorensen Version: 1.6.0 Command: F:\biocbuild\bbs-3.19-bioc\R\bin\R.exe CMD INSTALL goSorensen StartedAt: 2024-06-26 16:32:02 -0400 (Wed, 26 Jun 2024) EndedAt: 2024-06-26 16:32:38 -0400 (Wed, 26 Jun 2024) EllapsedTime: 36.1 seconds RetCode: 0 Status: OK