Package: goSorensen Version: 1.6.0 Command: chmod a+r goSorensen -R && F:\biocbuild\bbs-3.19-bioc\R\bin\R.exe CMD build --keep-empty-dirs --no-resave-data goSorensen StartedAt: 2024-06-26 19:17:08 -0400 (Wed, 26 Jun 2024) EndedAt: 2024-06-26 19:23:31 -0400 (Wed, 26 Jun 2024) EllapsedTime: 383.5 seconds RetCode: 0 Status: OK PackageFile: goSorensen_1.6.0.tar.gz PackageFileSize: 762.1 KiB