Package: goSorensen Version: 1.6.0 Command: rm -rf goSorensen.buildbin-libdir && mkdir goSorensen.buildbin-libdir && /Users/biocbuild/BBS/utils/build-universal.sh goSorensen_1.6.0.tar.gz /Library/Frameworks/R.framework/Resources/bin/R goSorensen.buildbin-libdir StartedAt: 2024-06-10 00:20:58 -0400 (Mon, 10 Jun 2024) EndedAt: 2024-06-10 00:21:33 -0400 (Mon, 10 Jun 2024) EllapsedTime: 35.0 seconds RetCode: 0 Status: OK PackageFile: goSorensen_1.6.0.tgz PackageFileSize: 741.5 KiB