Package: goSorensen Version: 1.6.0 Command: /home/biocbuild/R/R-beta-2024-04-15_r86425/bin/R CMD check --install=check:goSorensen.install-out.txt --library=/home/biocbuild/R/R-beta-2024-04-15_r86425/site-library --no-vignettes --timings goSorensen_1.6.0.tar.gz StartedAt: 2024-05-09 08:02:58 -0000 (Thu, 09 May 2024) EndedAt: 2024-05-09 08:41:43 -0000 (Thu, 09 May 2024) EllapsedTime: 2325.2 seconds RetCode: 0 Status: OK CheckDir: goSorensen.Rcheck Warnings: 0