Package: goSorensen Version: 1.6.0 Command: /home/biocbuild/R/R-beta-2024-04-15_r86425/bin/R CMD build --keep-empty-dirs --no-resave-data goSorensen StartedAt: 2024-05-09 00:43:31 -0000 (Thu, 09 May 2024) EndedAt: 2024-05-09 00:51:58 -0000 (Thu, 09 May 2024) EllapsedTime: 507.7 seconds RetCode: 0 Status: OK PackageFile: goSorensen_1.6.0.tar.gz PackageFileSize: 829.4 KiB