Package: goSorensen Version: 1.6.0 Command: /Library/Frameworks/R.framework/Resources/bin/R CMD check --install=check:goSorensen.install-out.txt --library=/Library/Frameworks/R.framework/Resources/library --no-vignettes --timings goSorensen_1.6.0.tar.gz StartedAt: 2024-10-17 23:41:14 -0400 (Thu, 17 Oct 2024) EndedAt: 2024-10-18 00:12:46 -0400 (Fri, 18 Oct 2024) EllapsedTime: 1891.3 seconds RetCode: 0 Status: OK CheckDir: goSorensen.Rcheck Warnings: 0