Package: goSorensen Version: 1.6.0 Command: rm -rf goSorensen.buildbin-libdir && mkdir goSorensen.buildbin-libdir && /Users/biocbuild/BBS/utils/build-universal.sh goSorensen_1.6.0.tar.gz /Library/Frameworks/R.framework/Resources/bin/R goSorensen.buildbin-libdir StartedAt: 2024-10-18 18:47:47 -0400 (Fri, 18 Oct 2024) EndedAt: 2024-10-18 18:48:22 -0400 (Fri, 18 Oct 2024) EllapsedTime: 35.2 seconds RetCode: 0 Status: OK PackageFile: goSorensen_1.6.0.tgz PackageFileSize: 741.5 KiB