Package: goProfiles Version: 1.66.0 Command: E:\biocbuild\bbs-3.19-bioc\R\bin\R.exe CMD INSTALL goProfiles StartedAt: 2024-10-16 16:26:00 -0400 (Wed, 16 Oct 2024) EndedAt: 2024-10-16 16:26:39 -0400 (Wed, 16 Oct 2024) EllapsedTime: 39.9 seconds RetCode: 0 Status: OK