Package: goProfiles Version: 1.66.0 Command: chmod a+r goProfiles -R && E:\biocbuild\bbs-3.19-bioc\R\bin\R.exe CMD build --keep-empty-dirs --no-resave-data goProfiles StartedAt: 2024-10-16 19:31:02 -0400 (Wed, 16 Oct 2024) EndedAt: 2024-10-16 19:32:13 -0400 (Wed, 16 Oct 2024) EllapsedTime: 71.2 seconds RetCode: 0 Status: OK PackageFile: goProfiles_1.66.0.tar.gz PackageFileSize: 288.6 KiB