Package: goProfiles Version: 1.66.0 Command: /Library/Frameworks/R.framework/Resources/bin/R CMD INSTALL goProfiles StartedAt: 2024-06-09 15:36:38 -0400 (Sun, 09 Jun 2024) EndedAt: 2024-06-09 15:37:02 -0400 (Sun, 09 Jun 2024) EllapsedTime: 23.3 seconds RetCode: 0 Status: OK