Package: gmoviz Version: 1.16.0 Command: rm -rf gmoviz.buildbin-libdir && mkdir gmoviz.buildbin-libdir && E:\biocbuild\bbs-3.19-bioc\R\bin\R.exe CMD INSTALL --build --library=gmoviz.buildbin-libdir gmoviz_1.16.0.tar.gz StartedAt: 2024-10-17 07:54:01 -0400 (Thu, 17 Oct 2024) EndedAt: 2024-10-17 07:54:49 -0400 (Thu, 17 Oct 2024) EllapsedTime: 47.9 seconds RetCode: 0 Status: OK PackageFile: gmoviz_1.16.0.zip PackageFileSize: 4.753 MiB