Package: gmoviz Version: 1.16.0 Command: /home/biocbuild/bbs-3.19-bioc/R/bin/R CMD check --install=check:gmoviz.install-out.txt --library=/home/biocbuild/bbs-3.19-bioc/R/site-library --timings gmoviz_1.16.0.tar.gz StartedAt: 2024-10-17 01:01:28 -0400 (Thu, 17 Oct 2024) EndedAt: 2024-10-17 01:07:12 -0400 (Thu, 17 Oct 2024) EllapsedTime: 343.7 seconds RetCode: 0 Status: OK CheckDir: gmoviz.Rcheck Warnings: 0