Package: gmoviz Version: 1.16.0 Command: /home/biocbuild/R/R-beta-2024-04-15_r86425/bin/R CMD build --keep-empty-dirs --no-resave-data gmoviz StartedAt: 2024-05-09 00:40:34 -0000 (Thu, 09 May 2024) EndedAt: 2024-05-09 00:43:05 -0000 (Thu, 09 May 2024) EllapsedTime: 150.2 seconds RetCode: 0 Status: OK PackageFile: gmoviz_1.16.0.tar.gz PackageFileSize: 4.255 MiB