Package: gmoviz Version: 1.16.0 Command: /Library/Frameworks/R.framework/Resources/bin/R CMD check --install=check:gmoviz.install-out.txt --library=/Library/Frameworks/R.framework/Resources/library --no-vignettes --timings gmoviz_1.16.0.tar.gz StartedAt: 2024-06-10 17:26:55 -0400 (Mon, 10 Jun 2024) EndedAt: 2024-06-10 17:35:13 -0400 (Mon, 10 Jun 2024) EllapsedTime: 498.2 seconds RetCode: 0 Status: OK CheckDir: gmoviz.Rcheck Warnings: 0