Package: globaltest Version: 5.58.0 Command: rm -rf globaltest.buildbin-libdir && mkdir globaltest.buildbin-libdir && /Users/biocbuild/BBS/utils/build-universal.sh globaltest_5.58.0.tar.gz /Library/Frameworks/R.framework/Resources/bin/R globaltest.buildbin-libdir StartedAt: 2024-06-10 00:20:43 -0400 (Mon, 10 Jun 2024) EndedAt: 2024-06-10 00:21:17 -0400 (Mon, 10 Jun 2024) EllapsedTime: 33.7 seconds RetCode: 0 Status: OK PackageFile: globaltest_5.58.0.tgz PackageFileSize: 1.125 MiB